
BEGIN:VCALENDAR
VERSION:2.0
PRODID:-//OfficeDivvy - ECPv6.0.2//NONSGML v1.0//EN
CALSCALE:GREGORIAN
METHOD:PUBLISH
X-ORIGINAL-URL:https://officedivvy.com
X-WR-CALDESC:Events for OfficeDivvy
REFRESH-INTERVAL;VALUE=DURATION:PT1H
X-Robots-Tag:noindex
X-PUBLISHED-TTL:PT1H
BEGIN:VTIMEZONE
TZID:America/New_York
BEGIN:DAYLIGHT
TZOFFSETFROM:-0500
TZOFFSETTO:-0400
TZNAME:EDT
DTSTART:20190310T070000
END:DAYLIGHT
BEGIN:STANDARD
TZOFFSETFROM:-0400
TZOFFSETTO:-0500
TZNAME:EST
DTSTART:20191103T060000
END:STANDARD
END:VTIMEZONE
BEGIN:VEVENT
DTSTART;TZID=America/New_York:20190308T200458
DTEND;TZID=America/New_York:20190314T235500
DTSTAMP:20260422T042742
CREATED:20150312T223717Z
LAST-MODIFIED:20190308T200458Z
UID:3482-1552075498-1552607700@officedivvy.com
SUMMARY:Happy "Pi" Day | 3.14.19 | Special Deal for Coworking in Palm Coast
DESCRIPTION:3.14159…..ad infinitum.  Or so it would seem.\nYou must know that we’re talking about “pi.” That irrational number symbolized by that teetering night stand of a Greek symbol. The one used to demonstrate a circle’s ratio from its circumference to its diameter. \nPi is a fun number with a fun name and history.  \nBack in the day\, as its finer points were being first understood\, solitary scientists or maybe some grey-haired prisoners\, even—anyone with more of an affinity for numbers than people—probably drove themselves up a wall trying to reach that last decimal place. \nSo in honor of those lonely souls and in honor of “pi Day\,” which happens 3.14 (SURPRISE!)\, Office Divvy is offering three Days of Coworking at $3.14!\nAre you a freelancer or just someone who is tired of the isolation and distractions that comes with working from home? Are you in need of a fresh face and environment? A fresh cup of delicious espresso? If so\, then this deal is for you. \nAnd maybe you’re not that person\, but you know someone else who is that perfect candidate for Coworking? Then you can buy it for that special person who would appreciate this deal. \nOr if that’s a negative on both accounts\, why not pay it forward? Because if you don’t know someone\, we definitely do! \n\nFill out my online form.\n\n  Fill out my Wufoo form! \nThis deal is for 3 days of Coworking (does not have to be consecutive). Must be purchased on or before 3/14/2019 | Can be used anytime within 3 months of purchasing (tickets expire 6/14/2019)
URL:https://officedivvy.com/class/happy-pi-day-3-14/
LOCATION:Office Divvy\, 389 Palm Coast Parkway SW #4\, Palm Coast\, FL\, 32137\, United States
CATEGORIES:Coworking,Special Sale
ATTACH;FMTTYPE=image/jpeg:https://officedivvy.com/wp-content/uploads/2015/03/Pi-Day-Coworking-Special-15.jpg
END:VEVENT
END:VCALENDAR