
BEGIN:VCALENDAR
VERSION:2.0
PRODID:-//OfficeDivvy - ECPv6.0.2//NONSGML v1.0//EN
CALSCALE:GREGORIAN
METHOD:PUBLISH
X-WR-CALNAME:OfficeDivvy
X-ORIGINAL-URL:https://officedivvy.com
X-WR-CALDESC:Events for OfficeDivvy
REFRESH-INTERVAL;VALUE=DURATION:PT1H
X-Robots-Tag:noindex
X-PUBLISHED-TTL:PT1H
BEGIN:VTIMEZONE
TZID:America/New_York
BEGIN:DAYLIGHT
TZOFFSETFROM:-0500
TZOFFSETTO:-0400
TZNAME:EDT
DTSTART:20150308T070000
END:DAYLIGHT
BEGIN:STANDARD
TZOFFSETFROM:-0400
TZOFFSETTO:-0500
TZNAME:EST
DTSTART:20151101T060000
END:STANDARD
END:VTIMEZONE
BEGIN:VEVENT
DTSTART;TZID=America/New_York:20151110T173000
DTEND;TZID=America/New_York:20151110T183000
DTSTAMP:20260425T084024
CREATED:20151030T212233Z
LAST-MODIFIED:20151102T203712Z
UID:5381-1447176600-1447180200@officedivvy.com
SUMMARY:Leverage Instagram to sell Real Estate
DESCRIPTION:On Tuesday\, November 10th\, learn how to integrate Instagram into your marketing to reach new audiences for real estate sales. \nIn this one hour session\, you will learn how to: \n• Position your and others’ listings to be sold\n• Attract first time Home Buyers\n• Reach a Broader Audience with your Marketing\n• Gain Followers and Grow your Network. \nYou may RSVP here\nCost: $9.00\nTime: 5:30pm-6:30pm \nINSTRUCTOR: \nDawn Paape | American Home Mortage \nDawn has proven to be an effective user of Social Media in real estate ecosystem. In less than two months\, she has generated organic click throughs worth over $1\,500. \nDawn’s Instagram footprint is particularly significant with high quality images and videos. \nThrough this class Dawn will share her own experience-based insights as well as industry best-practices when it comes to using Instagram for Real Estate Marketing. \nNOTE: This class is ACTIVE REAL ESTATE AGENTS ONLY. \n  \n\nFill out my online form.\n\n  Fill out my Wufoo form!
URL:https://officedivvy.com/class/leverage-instagram-to-sell-real-estate/2015-11-10/
LOCATION:COWORK by Office Divvy\, 20 Airport Road Ste B2\, Palm Coast\, FL\, 32164\, United States
CATEGORIES:Marketing,Workshop
ATTACH;FMTTYPE=image/jpeg:https://officedivvy.com/wp-content/uploads/2015/10/instagramclass.jpg
END:VEVENT
END:VCALENDAR