
BEGIN:VCALENDAR
VERSION:2.0
PRODID:-//OfficeDivvy - ECPv6.0.2//NONSGML v1.0//EN
CALSCALE:GREGORIAN
METHOD:PUBLISH
X-ORIGINAL-URL:https://officedivvy.com
X-WR-CALDESC:Events for OfficeDivvy
REFRESH-INTERVAL;VALUE=DURATION:PT1H
X-Robots-Tag:noindex
X-PUBLISHED-TTL:PT1H
BEGIN:VTIMEZONE
TZID:America/New_York
BEGIN:DAYLIGHT
TZOFFSETFROM:-0500
TZOFFSETTO:-0400
TZNAME:EDT
DTSTART:20150308T070000
END:DAYLIGHT
BEGIN:STANDARD
TZOFFSETFROM:-0400
TZOFFSETTO:-0500
TZNAME:EST
DTSTART:20151101T060000
END:STANDARD
END:VTIMEZONE
BEGIN:VEVENT
DTSTART;TZID=America/New_York:20150930T080000
DTEND;TZID=America/New_York:20150930T100000
DTSTAMP:20260425T082920
CREATED:20150820T180948Z
LAST-MODIFIED:20150917T202356Z
UID:4651-1443600000-1443607200@officedivvy.com
SUMMARY:Wordpress\, SquareSpace\, GoDaddy... Oh My!
DESCRIPTION:On Wednesday\, September 30th\, join Peralta Design in a workshop that will consist of comprehensive review of the most popular web platforms available on the market for small businesses and entrepreneurs. \nDuring the workshop\, discuss the Pros & Cons of Platforms such as: \n\nWIX\nHibu\nWeb.com\nWordPress\nEtsy\nSquareSpace\n\nWhat’s the goal of the Workshop?\n\nTo educate entrepreneurs and business owners of all their options\nThe technology supporting each one\nTheir limitations or concessions\nEmpower business owners with the knowledge to determine which platform is best for them\n\nWho Should Attend?\nThis workshop is for startup businesses and well-established businesses that are looking to expand or improve their web presence. This event costs $39 for public. \nAttend This & Get 2 FREE\nWhen you attend this workshop\, you will also be receiving two vouchers for Office Divvy’s next HTML Bootcamp and SEO Workshop\, at no cost. That is a savings of $58! \nWhen\, Where\, and What Time:\nWhen: Wednesday\, September 30th\, 2015\nWhere: COWORK\, 20 Airport Rd Suite B\nWhat Time: 8:00 AM – 10:00AM \n  \n\nFill out my online form.\n\n  Fill out my Wufoo form!
URL:https://officedivvy.com/class/wordpress-squarespace-godaddy-oh-my/2015-09-30/
LOCATION:COWORK by Office Divvy\, 20 Airport Road Ste B2\, Palm Coast\, FL\, 32164\, United States
CATEGORIES:Workshop
ATTACH;FMTTYPE=image/jpeg:https://officedivvy.com/wp-content/uploads/2015/08/PeraltaDesign-TeamMembers.jpg
END:VEVENT
END:VCALENDAR