
BEGIN:VCALENDAR
VERSION:2.0
PRODID:-//OfficeDivvy - ECPv6.0.2//NONSGML v1.0//EN
CALSCALE:GREGORIAN
METHOD:PUBLISH
X-WR-CALNAME:OfficeDivvy
X-ORIGINAL-URL:https://officedivvy.com
X-WR-CALDESC:Events for OfficeDivvy
REFRESH-INTERVAL;VALUE=DURATION:PT1H
X-Robots-Tag:noindex
X-PUBLISHED-TTL:PT1H
BEGIN:VTIMEZONE
TZID:America/New_York
BEGIN:DAYLIGHT
TZOFFSETFROM:-0500
TZOFFSETTO:-0400
TZNAME:EDT
DTSTART:20150308T070000
END:DAYLIGHT
BEGIN:STANDARD
TZOFFSETFROM:-0400
TZOFFSETTO:-0500
TZNAME:EST
DTSTART:20151101T060000
END:STANDARD
END:VTIMEZONE
BEGIN:VEVENT
DTSTART;TZID=America/New_York:20150924T173000
DTEND;TZID=America/New_York:20150924T190000
DTSTAMP:20260424T025552
CREATED:20150807T003657Z
LAST-MODIFIED:20150924T205155Z
UID:4526-1443115800-1443121200@officedivvy.com
SUMMARY:Launch Party: Peralta Design in Palm Coast
DESCRIPTION:Coming to you this Fall– Join us on September 24th for the Peralta Design Launch Party\nWhat are we celebrating?\nWe are celebrating a Connecticut based start up brand specialist’s entry into Palm Coast\, Flagler County\, and Central Florida Market. \nWho is Peralta Design?\nPeralta Design offers innovative and passionate solutions for branding and design. Company is a client-centric operation to develop corporate identity\, brand strategy\, custom websites\, and cross-platform application solutions for businesses\, products and people. Their consistent branding of “Look & Feel” and experience across all consumer touch-points assures that you will not only stand out– but that you will do it professionally. \nWith 20+ years of experience\, Founder & Creative Director\, Ramon E. Peralta\, Jr. experiences in developing corporate identity and creating B2B and B2C marketing material and UI/UX design. After serving as Senior Art Director on the start-up team behind Priceline.com\, Ramon developed a passion for innovation. He leads his creative team in establishing a unique visual identity for each program\, designed to not only complement the client’s brand\, but also impact its target demo! \nWho should attend this event?\nCity and County officials who play a premium in technology\, Startups\, Entrepreneurial ventures\, and Economic Development: Business Owners\, who want to meet a team of branding specialists and root for their success in this new market and the Press. \nWhy should you attend this event?\nCelebrate a world class company choosing Palm Coast as their base for their expansion to the Florida market. Meet the Peralta Design team\, as well as people who are passionate about business in Flagler County. Participate in a contest to choose The Worst Logo\, for which Peralta Design is going to offer a makeover and enjoy an open bar and appetizers. \nWhen\, Where\, and What time is this event?\nWhen: Thursday\, September 24th\nWhere: COWORK\, 20 Airport Rd\, Suite B\nWhat Time: 5:00PM-7:00PM \nInvitation Only — RSVP Required.\ncall to 386-445-4153 to RSVP.\n  \n\nFill out my online form.\n\n  Fill out my Wufoo form!
URL:https://officedivvy.com/class/peralta-design-launch-party-in-palm-coast/2015-09-24/
LOCATION:COWORK by Office Divvy\, 20 Airport Road Ste B2\, Palm Coast\, FL\, 32164\, United States
CATEGORIES:Networking
ATTACH;FMTTYPE=image/jpeg:https://officedivvy.com/wp-content/uploads/2015/08/PeraltaDesign-TeamPicture.jpg
END:VEVENT
END:VCALENDAR