
BEGIN:VCALENDAR
VERSION:2.0
PRODID:-//OfficeDivvy - ECPv6.0.2//NONSGML v1.0//EN
CALSCALE:GREGORIAN
METHOD:PUBLISH
X-WR-CALNAME:OfficeDivvy
X-ORIGINAL-URL:https://officedivvy.com
X-WR-CALDESC:Events for OfficeDivvy
REFRESH-INTERVAL;VALUE=DURATION:PT1H
X-Robots-Tag:noindex
X-PUBLISHED-TTL:PT1H
BEGIN:VTIMEZONE
TZID:America/New_York
BEGIN:DAYLIGHT
TZOFFSETFROM:-0500
TZOFFSETTO:-0400
TZNAME:EDT
DTSTART:20160313T070000
END:DAYLIGHT
BEGIN:STANDARD
TZOFFSETFROM:-0400
TZOFFSETTO:-0500
TZNAME:EST
DTSTART:20161106T060000
END:STANDARD
END:VTIMEZONE
BEGIN:VEVENT
DTSTART;TZID=America/New_York:20160628T173000
DTEND;TZID=America/New_York:20160628T190000
DTSTAMP:20260423T125126
CREATED:20150116T074523Z
LAST-MODIFIED:20160601T183638Z
UID:3235-1467135000-1467140400@officedivvy.com
SUMMARY:Entrepreneur Night at Salvo Art
DESCRIPTION:Entrepreneur Night is a Grassroots Event for and by Entrepreneurs. \nEvents are attended by all kinds of profiles within Florida’s Entrepreneurship Eco-System\, including Entrepreneurs in various stages of the Entrepreneurial lifecycles\, Startup Founders\, Aspiring Entrepreneurs\, Investors\, along with those who service and support Entrepreneurs. \nEntrepreneur Night events take place on the LAST TUESDAY of every month (except in July\, August\, and December\, when the event takes a break). When you attend this event\, expect: \n\ncomplimentary appetizers\,\noptional cash-bar\,\nentertainment featuring a DJ & MC\,\nconnecting with hundreds of participants.\n\nFor complete details and to RSVP\, visit the event website here: Entrepreneur Night \n…and check out all the wonderful tweets with hashtag #EntNight by clicking on this collage of people from various events:
URL:https://officedivvy.com/class/entrepreneur-night-2016/
LOCATION:Salvo Art\, INC\, 313 Old Brick Rd\, Bunnell\, FL\, 32110\, United States
CATEGORIES:Networking
ATTACH;FMTTYPE=image/jpeg:https://officedivvy.com/wp-content/uploads/2015/01/ENTNIGHT-Monica-Lao-1.jpg
END:VEVENT
END:VCALENDAR